BEGIN:VCALENDAR
VERSION:2.0
PRODID:-//Skate Austria - ECPv6.15.20//NONSGML v1.0//EN
CALSCALE:GREGORIAN
METHOD:PUBLISH
X-WR-CALNAME:Skate Austria
X-ORIGINAL-URL:https://skateaustria.at
X-WR-CALDESC:Veranstaltungen für Skate Austria
REFRESH-INTERVAL;VALUE=DURATION:PT1H
X-Robots-Tag:noindex
X-PUBLISHED-TTL:PT1H
BEGIN:VTIMEZONE
TZID:Europe/Vienna
BEGIN:DAYLIGHT
TZOFFSETFROM:+0100
TZOFFSETTO:+0200
TZNAME:CEST
DTSTART:20250330T010000
END:DAYLIGHT
BEGIN:STANDARD
TZOFFSETFROM:+0200
TZOFFSETTO:+0100
TZNAME:CET
DTSTART:20251026T010000
END:STANDARD
BEGIN:DAYLIGHT
TZOFFSETFROM:+0100
TZOFFSETTO:+0200
TZNAME:CEST
DTSTART:20260329T010000
END:DAYLIGHT
BEGIN:STANDARD
TZOFFSETFROM:+0200
TZOFFSETTO:+0100
TZNAME:CET
DTSTART:20261025T010000
END:STANDARD
BEGIN:DAYLIGHT
TZOFFSETFROM:+0100
TZOFFSETTO:+0200
TZNAME:CEST
DTSTART:20270328T010000
END:DAYLIGHT
BEGIN:STANDARD
TZOFFSETFROM:+0200
TZOFFSETTO:+0100
TZNAME:CET
DTSTART:20271031T010000
END:STANDARD
END:VTIMEZONE
BEGIN:VEVENT
DTSTART;TZID=Europe/Vienna:20260421T183000
DTEND;TZID=Europe/Vienna:20260421T203000
DTSTAMP:20260421T164637
CREATED:20260115T085127Z
LAST-MODIFIED:20260312T130915Z
UID:10549-1776796200-1776803400@skateaustria.at
SUMMARY:Webinar Sportpsychologie: „Kinder brauchen Druck – oder geht es auch anders?“
DESCRIPTION:Wie viel Druck brauchen Kinder im Sport wirklich\, um motiviert zu bleiben und sich weiterzuentwickeln?\nIn diesem Webinar werden sportpsychologische Methoden vorgestellt\, mit denen Motivation im täglichen Training gezielt gefördert werden kann – ohne Überforderung oder Demotivation. Anhand praxisnaher Beispiele wird aufgezeigt\, wie Trainer*innen\, Eltern und Funktionäre Kinder altersgerecht begleiten und leistungsfördernde Rahmenbedingungen schaffen können. \nZielgruppe: Trainer*innen\, Eltern und Funktionäre \nAnmeldung: bis 17. April über den Verein per SAP möglich.
URL:https://skateaustria.at/event/webinar-sportpsychologie-kinder-brauchen-druck-oder-geht-es-auch-anders/
LOCATION:Teams Meeting
CATEGORIES:Seminare
END:VEVENT
END:VCALENDAR