BEGIN:VCALENDAR
VERSION:2.0
PRODID:-//Skate Austria - ECPv6.15.20//NONSGML v1.0//EN
CALSCALE:GREGORIAN
METHOD:PUBLISH
X-WR-CALNAME:Skate Austria
X-ORIGINAL-URL:https://skateaustria.at
X-WR-CALDESC:Veranstaltungen für Skate Austria
REFRESH-INTERVAL;VALUE=DURATION:PT1H
X-Robots-Tag:noindex
X-PUBLISHED-TTL:PT1H
BEGIN:VTIMEZONE
TZID:Europe/Vienna
BEGIN:DAYLIGHT
TZOFFSETFROM:+0100
TZOFFSETTO:+0200
TZNAME:CEST
DTSTART:20230326T010000
END:DAYLIGHT
BEGIN:STANDARD
TZOFFSETFROM:+0200
TZOFFSETTO:+0100
TZNAME:CET
DTSTART:20231029T010000
END:STANDARD
BEGIN:DAYLIGHT
TZOFFSETFROM:+0100
TZOFFSETTO:+0200
TZNAME:CEST
DTSTART:20240331T010000
END:DAYLIGHT
BEGIN:STANDARD
TZOFFSETFROM:+0200
TZOFFSETTO:+0100
TZNAME:CET
DTSTART:20241027T010000
END:STANDARD
BEGIN:DAYLIGHT
TZOFFSETFROM:+0100
TZOFFSETTO:+0200
TZNAME:CEST
DTSTART:20250330T010000
END:DAYLIGHT
BEGIN:STANDARD
TZOFFSETFROM:+0200
TZOFFSETTO:+0100
TZNAME:CET
DTSTART:20251026T010000
END:STANDARD
END:VTIMEZONE
BEGIN:VEVENT
DTSTART;VALUE=DATE:20240701
DTEND;VALUE=DATE:20240708
DTSTAMP:20260421T153238
CREATED:20240618T065613Z
LAST-MODIFIED:20240625T095043Z
UID:8038-1719792000-1720396799@skateaustria.at
SUMMARY:Impulstage Paarlaufen
DESCRIPTION:Zell/See
URL:https://skateaustria.at/event/impulstage-paarlaufen-zell-see/
CATEGORIES:Impulstage/Camps
END:VEVENT
BEGIN:VEVENT
DTSTART;VALUE=DATE:20240727
DTEND;VALUE=DATE:20240728
DTSTAMP:20260421T153238
CREATED:20240617T133519Z
LAST-MODIFIED:20240722T061149Z
UID:8034-1722038400-1722124799@skateaustria.at
SUMMARY:Kürklasse EVG
DESCRIPTION:Gmunden \nEinladung LTKl-Pr. 27.07.2024
URL:https://skateaustria.at/event/kuerklasse-evg-gmunden/
CATEGORIES:Kürklassen
END:VEVENT
END:VCALENDAR