BEGIN:VCALENDAR
VERSION:2.0
PRODID:-//Skate Austria - ECPv6.15.20//NONSGML v1.0//EN
CALSCALE:GREGORIAN
METHOD:PUBLISH
X-WR-CALNAME:Skate Austria
X-ORIGINAL-URL:https://skateaustria.at
X-WR-CALDESC:Veranstaltungen für Skate Austria
REFRESH-INTERVAL;VALUE=DURATION:PT1H
X-Robots-Tag:noindex
X-PUBLISHED-TTL:PT1H
BEGIN:VTIMEZONE
TZID:Europe/Vienna
BEGIN:DAYLIGHT
TZOFFSETFROM:+0100
TZOFFSETTO:+0200
TZNAME:CEST
DTSTART:20230326T010000
END:DAYLIGHT
BEGIN:STANDARD
TZOFFSETFROM:+0200
TZOFFSETTO:+0100
TZNAME:CET
DTSTART:20231029T010000
END:STANDARD
BEGIN:DAYLIGHT
TZOFFSETFROM:+0100
TZOFFSETTO:+0200
TZNAME:CEST
DTSTART:20240331T010000
END:DAYLIGHT
BEGIN:STANDARD
TZOFFSETFROM:+0200
TZOFFSETTO:+0100
TZNAME:CET
DTSTART:20241027T010000
END:STANDARD
BEGIN:DAYLIGHT
TZOFFSETFROM:+0100
TZOFFSETTO:+0200
TZNAME:CEST
DTSTART:20250330T010000
END:DAYLIGHT
BEGIN:STANDARD
TZOFFSETFROM:+0200
TZOFFSETTO:+0100
TZNAME:CET
DTSTART:20251026T010000
END:STANDARD
END:VTIMEZONE
BEGIN:VEVENT
DTSTART;VALUE=DATE:20240809
DTEND;VALUE=DATE:20240810
DTSTAMP:20260421T171652
CREATED:20240618T065923Z
LAST-MODIFIED:20240730T151022Z
UID:8041-1723161600-1723247999@skateaustria.at
SUMMARY:JGP Sichtung (Online)
DESCRIPTION:
URL:https://skateaustria.at/event/jgp-sichtung-online/
END:VEVENT
BEGIN:VEVENT
DTSTART;VALUE=DATE:20240812
DTEND;VALUE=DATE:20240815
DTSTAMP:20260421T171652
CREATED:20240618T070004Z
LAST-MODIFIED:20240625T094950Z
UID:8043-1723420800-1723679999@skateaustria.at
SUMMARY:Impulstage SYS
DESCRIPTION:Wien
URL:https://skateaustria.at/event/impulstage-sys-wien/
CATEGORIES:Impulstage/Camps
END:VEVENT
BEGIN:VEVENT
DTSTART;VALUE=DATE:20240815
DTEND;VALUE=DATE:20240819
DTSTAMP:20260421T171652
CREATED:20240618T070040Z
LAST-MODIFIED:20240625T094932Z
UID:8045-1723680000-1724025599@skateaustria.at
SUMMARY:Impulstage SYS
DESCRIPTION:Salzburg
URL:https://skateaustria.at/event/impulstage-sys-salzburg/
CATEGORIES:Impulstage/Camps
END:VEVENT
BEGIN:VEVENT
DTSTART;VALUE=DATE:20240815
DTEND;VALUE=DATE:20240819
DTSTAMP:20260421T171652
CREATED:20240618T070121Z
LAST-MODIFIED:20240625T094913Z
UID:8047-1723680000-1724025599@skateaustria.at
SUMMARY:Eistanzseminar
DESCRIPTION:Wien
URL:https://skateaustria.at/event/eistanzseminar-wien/
CATEGORIES:Seminare
END:VEVENT
BEGIN:VEVENT
DTSTART;VALUE=DATE:20240816
DTEND;VALUE=DATE:20240819
DTSTAMP:20260421T171652
CREATED:20240618T070150Z
LAST-MODIFIED:20240625T094852Z
UID:8049-1723766400-1724025599@skateaustria.at
SUMMARY:Einzel- und Paarlaufen Schieds- und Preisrichter*innenseminar
DESCRIPTION:Wien
URL:https://skateaustria.at/event/einzel-und-paarlaufen-schieds-und-preisrichterinnenseminar-wien/
CATEGORIES:Seminare
END:VEVENT
END:VCALENDAR