BEGIN:VCALENDAR
VERSION:2.0
PRODID:-//Skate Austria - ECPv6.15.20//NONSGML v1.0//EN
CALSCALE:GREGORIAN
METHOD:PUBLISH
X-ORIGINAL-URL:https://skateaustria.at
X-WR-CALDESC:Veranstaltungen für Skate Austria
REFRESH-INTERVAL;VALUE=DURATION:PT1H
X-Robots-Tag:noindex
X-PUBLISHED-TTL:PT1H
BEGIN:VTIMEZONE
TZID:Europe/Vienna
BEGIN:DAYLIGHT
TZOFFSETFROM:+0100
TZOFFSETTO:+0200
TZNAME:CEST
DTSTART:20230326T010000
END:DAYLIGHT
BEGIN:STANDARD
TZOFFSETFROM:+0200
TZOFFSETTO:+0100
TZNAME:CET
DTSTART:20231029T010000
END:STANDARD
BEGIN:DAYLIGHT
TZOFFSETFROM:+0100
TZOFFSETTO:+0200
TZNAME:CEST
DTSTART:20240331T010000
END:DAYLIGHT
BEGIN:STANDARD
TZOFFSETFROM:+0200
TZOFFSETTO:+0100
TZNAME:CET
DTSTART:20241027T010000
END:STANDARD
BEGIN:DAYLIGHT
TZOFFSETFROM:+0100
TZOFFSETTO:+0200
TZNAME:CEST
DTSTART:20250330T010000
END:DAYLIGHT
BEGIN:STANDARD
TZOFFSETFROM:+0200
TZOFFSETTO:+0100
TZNAME:CET
DTSTART:20251026T010000
END:STANDARD
END:VTIMEZONE
BEGIN:VEVENT
DTSTART;TZID=Europe/Vienna:20241002T183000
DTEND;TZID=Europe/Vienna:20241002T200000
DTSTAMP:20260421T201935
CREATED:20240924T072158Z
LAST-MODIFIED:20240924T072158Z
UID:8519-1727893800-1727899200@skateaustria.at
SUMMARY:Update Webinar für alle DROs
DESCRIPTION:Die Teilnahme wird SEHR dringend empfohlen\, da sich die Software stark verändert hat. \nDie Anmeldung ist noch bis 25. September per E-Mail an off-ice@skateaustria.at möglich.
URL:https://skateaustria.at/event/update-webinar-fuer-alle-dros/
CATEGORIES:Seminare
END:VEVENT
BEGIN:VEVENT
DTSTART;TZID=Europe/Vienna:20241009T183000
DTEND;TZID=Europe/Vienna:20241009T200000
DTSTAMP:20260421T201935
CREATED:20240618T070351Z
LAST-MODIFIED:20240625T094802Z
UID:8053-1728498600-1728504000@skateaustria.at
SUMMARY:Sportpsychologie 2024-4
DESCRIPTION:Online
URL:https://skateaustria.at/event/sportpsychologie-2024-4/
CATEGORIES:Seminare
END:VEVENT
BEGIN:VEVENT
DTSTART;VALUE=DATE:20241018
DTEND;VALUE=DATE:20241021
DTSTAMP:20260421T201935
CREATED:20240617T135040Z
LAST-MODIFIED:20250206T211048Z
UID:8036-1729209600-1729468799@skateaustria.at
SUMMARY:15. Hippolyt Cup EVP
DESCRIPTION:St. Pölten – Skate Austria Cup
URL:https://skateaustria.at/event/15-hippolyt-cup-evp-skate-austria-cup-st-poelten/
CATEGORIES:Bewerbe
END:VEVENT
BEGIN:VEVENT
DTSTART;VALUE=DATE:20241018
DTEND;VALUE=DATE:20241021
DTSTAMP:20260421T201935
CREATED:20240730T151825Z
LAST-MODIFIED:20250206T211109Z
UID:8242-1729209600-1729468799@skateaustria.at
SUMMARY:15. Hippolyt Cup EVP
DESCRIPTION:St. Pölten – Special Olympics
URL:https://skateaustria.at/event/15-hippolyt-cup-evp/
CATEGORIES:Special Olympics
END:VEVENT
END:VCALENDAR