BEGIN:VCALENDAR
VERSION:2.0
PRODID:-//Skate Austria - ECPv6.15.20//NONSGML v1.0//EN
CALSCALE:GREGORIAN
METHOD:PUBLISH
X-ORIGINAL-URL:https://skateaustria.at
X-WR-CALDESC:Veranstaltungen für Skate Austria
REFRESH-INTERVAL;VALUE=DURATION:PT1H
X-Robots-Tag:noindex
X-PUBLISHED-TTL:PT1H
BEGIN:VTIMEZONE
TZID:Europe/Vienna
BEGIN:DAYLIGHT
TZOFFSETFROM:+0100
TZOFFSETTO:+0200
TZNAME:CEST
DTSTART:20230326T010000
END:DAYLIGHT
BEGIN:STANDARD
TZOFFSETFROM:+0200
TZOFFSETTO:+0100
TZNAME:CET
DTSTART:20231029T010000
END:STANDARD
BEGIN:DAYLIGHT
TZOFFSETFROM:+0100
TZOFFSETTO:+0200
TZNAME:CEST
DTSTART:20240331T010000
END:DAYLIGHT
BEGIN:STANDARD
TZOFFSETFROM:+0200
TZOFFSETTO:+0100
TZNAME:CET
DTSTART:20241027T010000
END:STANDARD
BEGIN:DAYLIGHT
TZOFFSETFROM:+0100
TZOFFSETTO:+0200
TZNAME:CEST
DTSTART:20250330T010000
END:DAYLIGHT
BEGIN:STANDARD
TZOFFSETFROM:+0200
TZOFFSETTO:+0100
TZNAME:CET
DTSTART:20251026T010000
END:STANDARD
END:VTIMEZONE
BEGIN:VEVENT
DTSTART;VALUE=DATE:20241104
DTEND;VALUE=DATE:20241111
DTSTAMP:20260421T214039
CREATED:20240618T070437Z
LAST-MODIFIED:20240625T094641Z
UID:8055-1730678400-1731283199@skateaustria.at
SUMMARY:Icechallenge GEV
DESCRIPTION:Graz – International
URL:https://skateaustria.at/event/icechallenge-gev-graz/
CATEGORIES:Bewerbe
END:VEVENT
BEGIN:VEVENT
DTSTART;VALUE=DATE:20241108
DTEND;VALUE=DATE:20241111
DTSTAMP:20260421T214039
CREATED:20240618T070513Z
LAST-MODIFIED:20250206T211324Z
UID:8057-1731024000-1731283199@skateaustria.at
SUMMARY:28. Eiscup IEV
DESCRIPTION:Innsbruck – Interclub
URL:https://skateaustria.at/event/28-eiscup-iev-innsbruck/
CATEGORIES:Bewerbe
END:VEVENT
BEGIN:VEVENT
DTSTART;TZID=Europe/Vienna:20241113T183000
DTEND;TZID=Europe/Vienna:20241113T200000
DTSTAMP:20260421T214039
CREATED:20240618T070605Z
LAST-MODIFIED:20240625T094544Z
UID:8059-1731522600-1731528000@skateaustria.at
SUMMARY:Ernährung 2024-4 (Online)
DESCRIPTION:Online
URL:https://skateaustria.at/event/ernaehrung-2024-4-online/
CATEGORIES:Seminare
END:VEVENT
END:VCALENDAR